BEGIN:VCALENDAR
VERSION:2.0
PRODID:-//wp-events-plugin.com//7.2.3.1//EN
TZID:Europe/Stockholm
X-WR-TIMEZONE:Europe/Stockholm
BEGIN:VEVENT
UID:144@uppsalahusnr6.org
DTSTART:20260422T171500Z
DTEND:20260422T191500Z
DTSTAMP:20260422T134336Z
URL:https://uppsalahusnr6.org/evenemang/styrelsemote-2026-04-22/
SUMMARY:Styrelsemöte
DESCRIPTION:Styrelsen håller möte.\n\nLedamöter och suppleanter kallas.
CATEGORIES:Styrelsemöte
LOCATION:Apelgården\, Apelgatan 5D\, Uppsala\, Sverige
X-APPLE-STRUCTURED-LOCATION;VALUE=URI;X-ADDRESS=Apelgatan 5D\, Uppsala\, Sv
 erige;X-APPLE-RADIUS=100;X-TITLE=Apelgården:geo:0,0
END:VEVENT
END:VCALENDAR