BEGIN:VCALENDAR
VERSION:2.0
PRODID:-//wp-events-plugin.com//7.2.3.1//EN
TZID:Europe/Stockholm
X-WR-TIMEZONE:Europe/Stockholm
BEGIN:VEVENT
UID:145@uppsalahusnr6.org
DTSTART;TZID=Europe/Stockholm:20260510T130000
DTEND;TZID=Europe/Stockholm:20260510T160000
DTSTAMP:20260422T134713Z
URL:https://uppsalahusnr6.org/evenemang/staddag/
SUMMARY:Städdag
DESCRIPTION:Vi träffas och utför diverse sysslor tillsammans.\n\nBland an
 nat planterar vi blommor\, rensar bort gamla cyklar och kastar iväg kvarg
 lömda tillhörigheter.\n\nNär vi är klara grillar vi korv och fikar.\n\
 nUppsamlingsplats: Innergården mellan Apelgatan 3 och 5.
LOCATION:Apelgården\, Apelgatan 5D\, Uppsala\, Sverige
X-APPLE-STRUCTURED-LOCATION;VALUE=URI;X-ADDRESS=Apelgatan 5D\, Uppsala\, Sv
 erige;X-APPLE-RADIUS=100;X-TITLE=Apelgården:geo:0,0
END:VEVENT
BEGIN:VTIMEZONE
TZID:Europe/Stockholm
X-LIC-LOCATION:Europe/Stockholm
BEGIN:DAYLIGHT
DTSTART:20260329T030000
TZOFFSETFROM:+0100
TZOFFSETTO:+0200
TZNAME:CEST
END:DAYLIGHT
END:VTIMEZONE
END:VCALENDAR