BEGIN:VCALENDAR
VERSION:2.0
PRODID:-//wp-events-plugin.com//7.2.3.1//EN
TZID:Europe/Stockholm
X-WR-TIMEZONE:Europe/Stockholm
BEGIN:VEVENT
UID:140@uppsalahusnr6.org
DTSTART:20260604T170000Z
DTEND:20260604T180000Z
DTSTAMP:20260314T111003Z
URL:https://uppsalahusnr6.org/evenemang/oppet-hus-2026-06-04/
SUMMARY:Öppet hus
DESCRIPTION:Styrelsen håller öppet hus i Apelgården.\n\nKom förbi om du
  har frågor\, funderingar eller bara vill prata lite.
CATEGORIES:Öppet hus
LOCATION:Apelgården\, Apelgatan 5D\, Uppsala\, Sverige
X-APPLE-STRUCTURED-LOCATION;VALUE=URI;X-ADDRESS=Apelgatan 5D\, Uppsala\, Sv
 erige;X-APPLE-RADIUS=100;X-TITLE=Apelgården:geo:0,0
END:VEVENT
END:VCALENDAR