BEGIN:VCALENDAR
VERSION:2.0
PRODID:-//wp-events-plugin.com//7.2.3.1//EN
TZID:Europe/Stockholm
X-WR-TIMEZONE:Europe/Stockholm
BEGIN:VEVENT
UID:143@uppsalahusnr6.org
DTSTART;TZID=Europe/Stockholm;VALUE=DATE:20260930
DTEND;TZID=Europe/Stockholm;VALUE=DATE:20261001
DTSTAMP:20260422T134233Z
URL:https://uppsalahusnr6.org/evenemang/motionsstopp-2026-09-30/
SUMMARY:Motionsstopp
DESCRIPTION:I dag är sista dagen att inkomma med motioner till ordinarie f
 öreningsstämma.\n\nMotioner lämnas till styrelsen via brev eller e-post
 .
CATEGORIES:Deadline
END:VEVENT
BEGIN:VTIMEZONE
TZID:Europe/Stockholm
X-LIC-LOCATION:Europe/Stockholm
BEGIN:DAYLIGHT
DTSTART:20260329T030000
TZOFFSETFROM:+0100
TZOFFSETTO:+0200
TZNAME:CEST
END:DAYLIGHT
END:VTIMEZONE
END:VCALENDAR