BEGIN:VCALENDAR
VERSION:2.0
PRODID:-//wp-events-plugin.com//7.2.3.1//EN
TZID:Europe/Stockholm
X-WR-TIMEZONE:Europe/Stockholm
BEGIN:VEVENT
UID:142@uppsalahusnr6.org
DTSTART;TZID=Europe/Stockholm:20260322T160000
DTEND;TZID=Europe/Stockholm:20260322T180000
DTSTAMP:20260314T111811Z
URL:https://uppsalahusnr6.org/evenemang/granntraff-2026-03-22/
SUMMARY:Grannträff med våfflor och sticklingbyte
DESCRIPTION:Fritidskommittén bjuder in till en social sammankomst där gra
 nnar i föreningen får tillfälle att träffas och prata med varandra.\n\
 nDet kommer att bjudas på våfflor och kaffe!\n\nAlla som har sticklingar
  att byta eller skänka bort är välkomna att ta med sig det. Vi ställer
  upp bord för sticklingbyte där man kan titta.
LOCATION:Apelgården\, Apelgatan 5D\, Uppsala\, Sverige
X-APPLE-STRUCTURED-LOCATION;VALUE=URI;X-ADDRESS=Apelgatan 5D\, Uppsala\, Sv
 erige;X-APPLE-RADIUS=100;X-TITLE=Apelgården:geo:0,0
END:VEVENT
BEGIN:VTIMEZONE
TZID:Europe/Stockholm
X-LIC-LOCATION:Europe/Stockholm
BEGIN:STANDARD
DTSTART:20251026T020000
TZOFFSETFROM:+0200
TZOFFSETTO:+0100
TZNAME:CET
END:STANDARD
END:VTIMEZONE
END:VCALENDAR